BEGIN:VCALENDAR
VERSION:2.0
PRODID:-//Tukios.com/
BEGIN:VEVENT
UID:677108b3-50c1-4a8f-aaff-d7e1b61334e7@www.summersfuneralhome.com
DTSTAMP:20260422T160429Z
DTSTART:20260424T140000Z
DTEND:20260424T160000Z
SUMMARY:Visitation
DESCRIPTION:
URL:https://www.summersfuneralhome.com/obituaries/jackie-jack-anders
LOCATION:Summers Funeral Home 223 W Market St  WSHNGTN CT HS OH 43160
GEO:39.5351806;-83.4426796
END:VEVENT
END:VCALENDAR