BEGIN:VCALENDAR
VERSION:2.0
PRODID:-//Tukios.com/
BEGIN:VEVENT
UID:3472657b-2a9f-4770-b731-6973ea618222@www.summersfuneralhome.com
DTSTAMP:20260422T160744Z
DTSTART:20260424T160000Z
DTEND:20260424T170000Z
SUMMARY:Funeral Service
DESCRIPTION:
URL:https://www.summersfuneralhome.com/obituaries/jackie-jack-anders
LOCATION:Summers Funeral Home 223 W Market St  WSHNGTN CT HS OH 43160
GEO:39.5351806;-83.4426796
END:VEVENT
END:VCALENDAR