BEGIN:VCALENDAR
VERSION:2.0
PRODID:-//Tukios.com/
BEGIN:VEVENT
UID:c54fc767-1354-4b32-bf8d-d623d592d3bc@www.summersfuneralhome.com
DTSTAMP:20260424T223754Z
DTSTART:20260501T150000Z
DTEND:20260501T170000Z
SUMMARY:Visitation
DESCRIPTION:
URL:https://www.summersfuneralhome.com/obituaries/mary-smedley
LOCATION:Summers Funeral Home 223 W Market St  WSHNGTN CT HS OH 43160
GEO:39.5351806;-83.4426796
END:VEVENT
END:VCALENDAR