BEGIN:VCALENDAR
VERSION:2.0
PRODID:-//Tukios.com/
BEGIN:VEVENT
UID:924a782f-e157-47d6-9e2e-175b59912856@www.summersfuneralhome.com
DTSTAMP:20260424T223953Z
DTSTART:20260501T170000Z
DTEND:20260501T180000Z
SUMMARY:Funeral Service
DESCRIPTION:
URL:https://www.summersfuneralhome.com/obituaries/mary-smedley
LOCATION:Summers Funeral Home 223 W Market St  WSHNGTN CT HS OH 43160
GEO:39.5351806;-83.4426796
END:VEVENT
END:VCALENDAR