BEGIN:VCALENDAR
VERSION:2.0
PRODID:-//Tukios.com/
BEGIN:VEVENT
UID:62cbb733-7eaf-4129-b975-4e502527cf1a@www.summersfuneralhome.com
DTSTAMP:20260423T084415Z
DTSTART:20260423T190000Z
DTEND:20260423T210000Z
SUMMARY:Celebration of Life
DESCRIPTION:
URL:https://www.summersfuneralhome.com/obituaries/michael-fenton
LOCATION:VFW Post 3762 335 Veterans Way  WSHNGTN CT HS OH 43160
GEO:39.5364088;-83.4456076
END:VEVENT
END:VCALENDAR