BEGIN:VCALENDAR
VERSION:2.0
PRODID:-//Tukios.com/
BEGIN:VEVENT
UID:7d98bf7c-9315-4244-8e47-e2783161d5bd@www.summersfuneralhome.com
DTSTAMP:20260420T213225Z
DTSTART:20260423T150000Z
DTEND:20260423T170000Z
SUMMARY:Visitation
DESCRIPTION:
URL:https://www.summersfuneralhome.com/obituaries/richard-kelley-jr
LOCATION:Heritage Church 1867 Old US 35 NW  Washington Court House OH 
	43160
GEO:39.544488;-83.470432
END:VEVENT
END:VCALENDAR