BEGIN:VCALENDAR
VERSION:2.0
PRODID:-//Tukios.com/
BEGIN:VEVENT
UID:bbd4e2bc-850d-4110-8524-dde512abb21a@www.summersfuneralhome.com
DTSTAMP:20260420T212930Z
DTSTART:20260423T170000Z
DTEND:20260423T180000Z
SUMMARY:Funeral Service
DESCRIPTION:
URL:https://www.summersfuneralhome.com/obituaries/richard-kelley-jr
LOCATION:Heritage Church 1867 Old US 35 NW  Washington Court House OH 
	43160
GEO:39.544488;-83.470432
END:VEVENT
END:VCALENDAR