BEGIN:VCALENDAR
VERSION:2.0
PRODID:-//Tukios.com/
BEGIN:VEVENT
UID:66483854-a4ff-49b7-a754-66f9e716a642@www.summersfuneralhome.com
DTSTAMP:20260423T224516Z
DTSTART:20260425T150000Z
DTEND:20260425T170000Z
SUMMARY:Visitation
DESCRIPTION:
URL:https://www.summersfuneralhome.com/obituaries/rory-souther
LOCATION: 175 Halliday Way  Washington Court House OH 43160
GEO:39.5159605;-83.4390451
END:VEVENT
END:VCALENDAR