BEGIN:VCALENDAR
VERSION:2.0
PRODID:-//Tukios.com/
BEGIN:VEVENT
UID:5d71793c-f33c-4a66-bf6c-291430574770@www.summersfuneralhome.com
DTSTAMP:20260423T224326Z
DTSTART:20260425T170000Z
DTEND:20260425T180000Z
SUMMARY:Funeral Service
DESCRIPTION:
URL:https://www.summersfuneralhome.com/obituaries/rory-souther
LOCATION: 175 Halliday Way  Washington Court House OH 43160
GEO:39.5159605;-83.4390451
END:VEVENT
END:VCALENDAR